BEGIN:VCALENDAR
VERSION:2.0
PRODID:-//wp-events-plugin.com//7.2.3.1//EN
TZID:America/Chicago
X-WR-TIMEZONE:America/Chicago
BEGIN:VEVENT
UID:1@sheridancontract.com
DTSTART;TZID=America/Chicago:20230209T160000
DTEND;TZID=America/Chicago:20230209T200000
DTSTAMP:20230201T020056Z
URL:https://sheridancontract.com/events/love-is-in-the-air-2023/
SUMMARY:Love Is In The Air
DESCRIPTION:[et_pb_section fb_built="1" admin_label="Main Content Section"
 _builder_version="4.19.4" custom_padding="0px||||false|false"
 hover_enabled="0" global_colors_info="{}" sticky_enabled="0"][et_pb_row
 _builder_version="4.19.4" _module_preset="default"
 custom_padding="||||false|false" hover_enabled="0" global_colors_info="{}"
 width="100%" max_width="100%" sticky_enabled="0"][et_pb_column type="4_4"
 _builder_version="4.19.4" _module_preset="default"
 global_colors_info="{}"][et_pb_text admin_label="Event Description"
 _builder_version="4.19.4" _module_preset="default"
 global_colors_info="{}"]We can't wait for the 2nd annual "Love Is In The
 Air" Valentine Mixer. &#x1f60d\; Via Seating and Loftwall are
 participating! Come join the fun on the 10th Floor of THE MART for a night
 of cocktails\, raffles and sweet treats from your favorite Manufacturers’
 Reps![/et_pb_text][et_pb_button
 button_url="https://www.eventbrite.com/e/2nd-annual-love-is-in-the-air-vale
 ntine-mixer-tickets-483906155337" url_new_window="on" button_text="Get
 Tickets" button_alignment="center" _builder_version="4.19.4"
 _module_preset="default"
 global_colors_info="{}"][/et_pb_button][/et_pb_column][/et_pb_row][/et_pb_s
 ection]
ATTACH;FMTTYPE=image/jpeg:https://sheridancontract.com/wp-content/uploads/
 event-love-is-in-the-air-2023.jpg
LOCATION:The Mart\, 222 West Merchandise Mart Plaza\, Chicago\, IL\,
 60654\, United States
X-APPLE-STRUCTURED-LOCATION;VALUE=URI;X-ADDRESS=222 West Merchandise Mart
 Plaza\, Chicago\, IL\, 60654\, United States;X-APPLE-RADIUS=100;X-TITLE=The
 Mart:geo:0,0
END:VEVENT
BEGIN:VTIMEZONE
TZID:America/Chicago
X-LIC-LOCATION:America/Chicago
BEGIN:STANDARD
DTSTART:20221106T010000
TZOFFSETFROM:-0500
TZOFFSETTO:-0600
TZNAME:CST
END:STANDARD
END:VTIMEZONE
END:VCALENDAR